BEGIN:VCALENDAR
VERSION:2.0
PRODID:-//Mulligan&#039;s Pub - ECPv6.3.4//NONSGML v1.0//EN
CALSCALE:GREGORIAN
METHOD:PUBLISH
X-ORIGINAL-URL:https://mulliganspub.ca
X-WR-CALDESC:Events for Mulligan&#039;s Pub
REFRESH-INTERVAL;VALUE=DURATION:PT1H
X-Robots-Tag:noindex
X-PUBLISHED-TTL:PT1H
BEGIN:VTIMEZONE
TZID:UTC
BEGIN:STANDARD
TZOFFSETFROM:+0000
TZOFFSETTO:+0000
TZNAME:UTC
DTSTART:20250101T000000
END:STANDARD
END:VTIMEZONE
BEGIN:VEVENT
DTSTART;TZID=UTC:20251004T203000
DTEND;TZID=UTC:20251004T233000
DTSTAMP:20260421T190734
CREATED:20250920T185536Z
LAST-MODIFIED:20250920T185536Z
UID:18933-1759609800-1759620600@mulliganspub.ca
SUMMARY:One Row Back
DESCRIPTION:
URL:https://mulliganspub.ca/event/one-row-back-2/
LOCATION:Mulligan’s Pub\, 2458 Dundas St W\,\, Mississauga\, Ontario\, L5K 1R8\, Canada
CATEGORIES:Live Music
END:VEVENT
END:VCALENDAR