BEGIN:VCALENDAR
VERSION:2.0
PRODID:-//Mulligan&#039;s Pub - ECPv6.3.4//NONSGML v1.0//EN
CALSCALE:GREGORIAN
METHOD:PUBLISH
X-ORIGINAL-URL:https://mulliganspub.ca
X-WR-CALDESC:Events for Mulligan&#039;s Pub
REFRESH-INTERVAL;VALUE=DURATION:PT1H
X-Robots-Tag:noindex
X-PUBLISHED-TTL:PT1H
BEGIN:VTIMEZONE
TZID:UTC
BEGIN:STANDARD
TZOFFSETFROM:+0000
TZOFFSETTO:+0000
TZNAME:UTC
DTSTART:20250101T000000
END:STANDARD
END:VTIMEZONE
BEGIN:VEVENT
DTSTART;TZID=UTC:20250921T160000
DTEND;TZID=UTC:20250921T193000
DTSTAMP:20260421T191002
CREATED:20250920T185622Z
LAST-MODIFIED:20250920T185622Z
UID:18935-1758470400-1758483000@mulliganspub.ca
SUMMARY:Kevin Phillips & The Stew
DESCRIPTION:
URL:https://mulliganspub.ca/event/kevin-phillips-the-stew-47/
LOCATION:Mulligan’s Pub\, 2458 Dundas St W\,\, Mississauga\, Ontario\, L5K 1R8\, Canada
CATEGORIES:Live Music
ATTACH;FMTTYPE=image/jpeg:https://mulliganspub.ca/wp-content/uploads/2024/03/download-1.jpg
END:VEVENT
BEGIN:VEVENT
DTSTART;TZID=UTC:20250926T080000
DTEND;TZID=UTC:20250926T170000
DTSTAMP:20260421T191002
CREATED:20250920T185212Z
LAST-MODIFIED:20250920T185212Z
UID:18926-1758873600-1758906000@mulliganspub.ca
SUMMARY:GLENN GROVES
DESCRIPTION:
URL:https://mulliganspub.ca/event/glenn-groves-3/
LOCATION:Mulligan’s Pub\, 2458 Dundas St W\,\, Mississauga\, Ontario\, L5K 1R8\, Canada
CATEGORIES:Live Music
END:VEVENT
BEGIN:VEVENT
DTSTART;TZID=UTC:20250927T203000
DTEND;TZID=UTC:20250927T233000
DTSTAMP:20260421T191002
CREATED:20250920T185409Z
LAST-MODIFIED:20250920T185409Z
UID:18928-1759005000-1759015800@mulliganspub.ca
SUMMARY:Table 69
DESCRIPTION:
URL:https://mulliganspub.ca/event/table-69-6/
LOCATION:Mulligan’s Pub\, 2458 Dundas St W\,\, Mississauga\, Ontario\, L5K 1R8\, Canada
CATEGORIES:Live Music
END:VEVENT
BEGIN:VEVENT
DTSTART;TZID=UTC:20250928T160000
DTEND;TZID=UTC:20250928T193000
DTSTAMP:20260421T191002
CREATED:20250920T185646Z
LAST-MODIFIED:20250920T185646Z
UID:18937-1759075200-1759087800@mulliganspub.ca
SUMMARY:Kevin Phillips & The Stew
DESCRIPTION:
URL:https://mulliganspub.ca/event/kevin-phillips-the-stew-48/
LOCATION:Mulligan’s Pub\, 2458 Dundas St W\,\, Mississauga\, Ontario\, L5K 1R8\, Canada
CATEGORIES:Live Music
ATTACH;FMTTYPE=image/jpeg:https://mulliganspub.ca/wp-content/uploads/2024/03/download-1.jpg
END:VEVENT
END:VCALENDAR