BEGIN:VCALENDAR
VERSION:2.0
PRODID:-//Mulligan&#039;s Pub - ECPv6.3.4//NONSGML v1.0//EN
CALSCALE:GREGORIAN
METHOD:PUBLISH
X-ORIGINAL-URL:https://mulliganspub.ca
X-WR-CALDESC:Events for Mulligan&#039;s Pub
REFRESH-INTERVAL;VALUE=DURATION:PT1H
X-Robots-Tag:noindex
X-PUBLISHED-TTL:PT1H
BEGIN:VTIMEZONE
TZID:UTC
BEGIN:STANDARD
TZOFFSETFROM:+0000
TZOFFSETTO:+0000
TZNAME:UTC
DTSTART:20250101T000000
END:STANDARD
END:VTIMEZONE
BEGIN:VEVENT
DTSTART;TZID=UTC:20251005T160000
DTEND;TZID=UTC:20251005T193000
DTSTAMP:20260422T082347
CREATED:20250920T185710Z
LAST-MODIFIED:20250920T185710Z
UID:18939-1759680000-1759692600@mulliganspub.ca
SUMMARY:Kevin Phillips & The Stew
DESCRIPTION:
URL:https://mulliganspub.ca/event/kevin-phillips-the-stew-49/
LOCATION:Mulligan’s Pub\, 2458 Dundas St W\,\, Mississauga\, Ontario\, L5K 1R8\, Canada
CATEGORIES:Live Music
ATTACH;FMTTYPE=image/jpeg:https://mulliganspub.ca/wp-content/uploads/2024/03/download-1.jpg
END:VEVENT
BEGIN:VEVENT
DTSTART;TZID=UTC:20251012T160000
DTEND;TZID=UTC:20251012T193000
DTSTAMP:20260422T082347
CREATED:20250920T185734Z
LAST-MODIFIED:20250920T185734Z
UID:18941-1760284800-1760297400@mulliganspub.ca
SUMMARY:Kevin Phillips & The Stew
DESCRIPTION:
URL:https://mulliganspub.ca/event/kevin-phillips-the-stew-50/
LOCATION:Mulligan’s Pub\, 2458 Dundas St W\,\, Mississauga\, Ontario\, L5K 1R8\, Canada
CATEGORIES:Live Music
ATTACH;FMTTYPE=image/jpeg:https://mulliganspub.ca/wp-content/uploads/2024/03/download-1.jpg
END:VEVENT
BEGIN:VEVENT
DTSTART;TZID=UTC:20251018T200000
DTEND;TZID=UTC:20251018T233000
DTSTAMP:20260422T082347
CREATED:20250920T190036Z
LAST-MODIFIED:20250920T190036Z
UID:18951-1760817600-1760830200@mulliganspub.ca
SUMMARY:Orangeman Band
DESCRIPTION:
URL:https://mulliganspub.ca/event/orangeman-band-14/
LOCATION:Mulligan’s Pub\, 2458 Dundas St W\,\, Mississauga\, Ontario\, L5K 1R8\, Canada
CATEGORIES:Live Music
ATTACH;FMTTYPE=image/png:https://mulliganspub.ca/wp-content/uploads/2024/01/ORANGEMAN-Band.png
END:VEVENT
BEGIN:VEVENT
DTSTART;TZID=UTC:20251019T160000
DTEND;TZID=UTC:20251019T193000
DTSTAMP:20260422T082347
CREATED:20250920T185806Z
LAST-MODIFIED:20250920T185806Z
UID:18943-1760889600-1760902200@mulliganspub.ca
SUMMARY:Kevin Phillips & The Stew
DESCRIPTION:
URL:https://mulliganspub.ca/event/kevin-phillips-the-stew-51/
LOCATION:Mulligan’s Pub\, 2458 Dundas St W\,\, Mississauga\, Ontario\, L5K 1R8\, Canada
CATEGORIES:Live Music
ATTACH;FMTTYPE=image/jpeg:https://mulliganspub.ca/wp-content/uploads/2024/03/download-1.jpg
END:VEVENT
BEGIN:VEVENT
DTSTART;TZID=UTC:20251025T200000
DTEND;TZID=UTC:20251025T233000
DTSTAMP:20260422T082347
CREATED:20250920T190146Z
LAST-MODIFIED:20250920T190146Z
UID:18955-1761422400-1761435000@mulliganspub.ca
SUMMARY:Pat Hewitt
DESCRIPTION:
URL:https://mulliganspub.ca/event/pat-hewitt-14/
LOCATION:Mulligan’s Pub\, 2458 Dundas St W\,\, Mississauga\, Ontario\, L5K 1R8\, Canada
CATEGORIES:Live Music
ATTACH;FMTTYPE=image/png:https://mulliganspub.ca/wp-content/uploads/2024/01/Pat-Hewitt.png
END:VEVENT
BEGIN:VEVENT
DTSTART;TZID=UTC:20251026T160000
DTEND;TZID=UTC:20251026T193000
DTSTAMP:20260422T082347
CREATED:20250920T185832Z
LAST-MODIFIED:20250920T185832Z
UID:18945-1761494400-1761507000@mulliganspub.ca
SUMMARY:Kevin Phillips & The Stew
DESCRIPTION:
URL:https://mulliganspub.ca/event/kevin-phillips-the-stew-52/
LOCATION:Mulligan’s Pub\, 2458 Dundas St W\,\, Mississauga\, Ontario\, L5K 1R8\, Canada
CATEGORIES:Live Music
ATTACH;FMTTYPE=image/jpeg:https://mulliganspub.ca/wp-content/uploads/2024/03/download-1.jpg
END:VEVENT
END:VCALENDAR